BEGIN:VCALENDAR
VERSION:2.0
PRODID:-//Sabre//Sabre VObject 4.5.8//EN
CALSCALE:GREGORIAN
BEGIN:VEVENT
UID:sabre-vobject-b89cc17d-cf22-422f-82f1-2f798b1c5f41
DTSTAMP:20260425T200433Z
SUMMARY:Hl. Messe
DESCRIPTION:https://www2.bistum-augsburg.de/gottesdienste/hl-messe_id173496
 2
DTSTART;TZID=Europe/Berlin:20260528T183000
DURATION:PT30M
LOCATION:St. Sixtus
END:VEVENT
END:VCALENDAR
