BEGIN:VCALENDAR
VERSION:2.0
PRODID:-//Sabre//Sabre VObject 4.5.8//EN
CALSCALE:GREGORIAN
BEGIN:VEVENT
UID:sabre-vobject-603ed510-5406-4744-83b3-9c83e6549aad
DTSTAMP:20260425T220709Z
SUMMARY:Messfeier
DESCRIPTION:https://www2.bistum-augsburg.de/gottesdienste/messfeier_id17349
 93
DTSTART;TZID=Europe/Berlin:20260508T083000
DURATION:PT30M
LOCATION:St. Anna
END:VEVENT
END:VCALENDAR
