BEGIN:VCALENDAR
VERSION:2.0
PRODID:-//Sabre//Sabre VObject 4.5.8//EN
CALSCALE:GREGORIAN
BEGIN:VEVENT
UID:sabre-vobject-d03ef69a-35a2-48b8-bfa3-2ad776187281
DTSTAMP:20260426T015339Z
SUMMARY:Taufe von Anni Specht
DESCRIPTION:https://www2.bistum-augsburg.de/gottesdienste/taufe-von-anni-sp
 echt_id1735008
DTSTART;TZID=Europe/Berlin:20260517T113000
DURATION:PT30M
LOCATION:St. Jakobus maj.
END:VEVENT
END:VCALENDAR
