BEGIN:VCALENDAR
VERSION:2.0
PRODID:-//Sabre//Sabre VObject 4.5.8//EN
CALSCALE:GREGORIAN
BEGIN:VEVENT
UID:sabre-vobject-7b8438ad-170f-4844-8fd5-0f4b0f06c09d
DTSTAMP:20260425T160547Z
SUMMARY:Pfarrkirche: Vorabendmesse zu Pfingsten für
DESCRIPTION:https://www2.bistum-augsburg.de/gottesdienste/pfarrkirche-vorab
 endmesse-zu-pfingsten-fuer_id1735019
DTSTART;TZID=Europe/Berlin:20260523T190000
DURATION:PT30M
LOCATION:Mariä Verkündigung\, Uzstraße 1\, 86465 Welden
END:VEVENT
END:VCALENDAR
