BEGIN:VCALENDAR
VERSION:2.0
PRODID:-//Sabre//Sabre VObject 4.5.8//EN
CALSCALE:GREGORIAN
BEGIN:VEVENT
UID:sabre-vobject-de7fde1c-f8d2-4dfb-8f88-fb32bae1992a
DTSTAMP:20260425T112254Z
SUMMARY:St. Thekla: Sonntagsmessfeier (Kollekte für Renovabis)
DESCRIPTION:https://www2.bistum-augsburg.de/gottesdienste/st-thekla-sonntag
 smessfeier-kollekte-fuer-renovabis_id1735020
DTSTART;TZID=Europe/Berlin:20260524T180000
DURATION:PT30M
LOCATION:Mariä Verkündigung\, Uzstraße 1\, 86465 Welden
END:VEVENT
END:VCALENDAR
