BEGIN:VCALENDAR
VERSION:2.0
PRODID:-//Sabre//Sabre VObject 4.5.8//EN
CALSCALE:GREGORIAN
BEGIN:VEVENT
UID:sabre-vobject-90d282c0-b4bc-433a-82ba-ec94bedca13e
DTSTAMP:20260426T015718Z
SUMMARY:Heilige Messe zum Bittgang mit anschl. Grillen mit Kolping
DESCRIPTION:https://www2.bistum-augsburg.de/gottesdienste/heilige-messe-zum
 -bittgang-mit-anschl-grillen-mit-kolping_id1735081
DTSTART;TZID=Europe/Berlin:20260513T190000
DURATION:PT30M
LOCATION:Schloßkapellenstiftung St. Johannes Baptist
END:VEVENT
END:VCALENDAR
