BEGIN:VCALENDAR
VERSION:2.0
PRODID:-//Sabre//Sabre VObject 4.5.8//EN
CALSCALE:GREGORIAN
BEGIN:VEVENT
UID:sabre-vobject-b4a4dd41-71e9-4fde-9701-74ca50310ce0
DTSTAMP:20260425T200606Z
SUMMARY:Sonntagsmessfeier für
DESCRIPTION:https://www2.bistum-augsburg.de/gottesdienste/sonntagsmessfeier
 -fuer_id1735085
DTSTART;TZID=Europe/Berlin:20260531T100000
DURATION:PT30M
LOCATION:St. Johannes Baptist
END:VEVENT
END:VCALENDAR
