BEGIN:VCALENDAR
VERSION:2.0
PRODID:-//Sabre//Sabre VObject 4.5.8//EN
CALSCALE:GREGORIAN
BEGIN:VEVENT
UID:sabre-vobject-ca7e8129-905c-4b98-b402-865f9605fe02
DTSTAMP:20260425T113154Z
SUMMARY:Pfarrgottesdienst für alle Lebenden und Verstorbenen der Pfarreien
 gemeinschaft im Gebetsgedenken an:
DESCRIPTION:https://www2.bistum-augsburg.de/gottesdienste/pfarrgottesdienst
 -fuer-alle-lebenden-und-verstorbenen-der-pfarreiengemeinschaft-im-gebetsge
 denken-an_id1735091
DTSTART;TZID=Europe/Berlin:20260531T100000
DURATION:PT30M
LOCATION:St. Martin
END:VEVENT
END:VCALENDAR
