BEGIN:VCALENDAR
VERSION:2.0
PRODID:-//Sabre//Sabre VObject 4.5.8//EN
CALSCALE:GREGORIAN
BEGIN:VEVENT
UID:sabre-vobject-cb8426af-6a6a-4204-975a-f9f9a2352e61
DTSTAMP:20260425T122821Z
SUMMARY:Vorabendmesse für
DESCRIPTION:https://www2.bistum-augsburg.de/gottesdienste/vorabendmesse-fue
 r_id1735105
DTSTART;TZID=Europe/Berlin:20260509T190000
DURATION:PT30M
LOCATION:St. Leonhard\, Ludwig-Rif-Straße 32\, 86465 Reutern
END:VEVENT
END:VCALENDAR
