BEGIN:VCALENDAR
VERSION:2.0
PRODID:-//Sabre//Sabre VObject 4.5.8//EN
CALSCALE:GREGORIAN
BEGIN:VEVENT
UID:sabre-vobject-59a4f72e-64ad-4d53-8ba0-a6ac454126b1
DTSTAMP:20260425T120537Z
SUMMARY:Flurumgang
DESCRIPTION:https://www2.bistum-augsburg.de/gottesdienste/flurumgang_id1735
 183
DTSTART;TZID=Europe/Berlin:20260511T190000
DURATION:PT30M
LOCATION:St. Laurentius
END:VEVENT
END:VCALENDAR
