BEGIN:VCALENDAR
VERSION:2.0
PRODID:-//Sabre//Sabre VObject 4.5.8//EN
CALSCALE:GREGORIAN
BEGIN:VEVENT
UID:sabre-vobject-7561a0c3-0a13-4103-bd05-b3cca87ebece
DTSTAMP:20260426T005857Z
SUMMARY:Abmarsch Bittgang von Affaltern nach Feigenhofen
DESCRIPTION:https://www2.bistum-augsburg.de/gottesdienste/abmarsch-bittgang
 -von-affaltern-nach-feigenhofen_id1735193
DTSTART;TZID=Europe/Berlin:20260512T180000
DURATION:PT30M
LOCATION:St. Sebastian\, Pfarrer-Brümmer-Straße 16\, 86485 Affaltern
END:VEVENT
END:VCALENDAR
