BEGIN:VCALENDAR
VERSION:2.0
PRODID:-//Sabre//Sabre VObject 4.5.8//EN
CALSCALE:GREGORIAN
BEGIN:VEVENT
UID:sabre-vobject-0f2313a8-abfd-447e-82aa-6fbc1f7ba029
DTSTAMP:20260425T161532Z
SUMMARY:Maiandacht: Treffpunkt gleich an der Marienkapelle Richtung Peterho
 f (Bei schlechtem Wetter findet die Maiandacht in der Pfarrkirche statt)
DESCRIPTION:https://www2.bistum-augsburg.de/gottesdienste/maiandacht-treffp
 unkt-gleich-an-der-marienkapelle-richtung-peterhof-bei-schlechtem-wetter-f
 indet-die-maiandacht-in-der-pfarrkirche-statt_id1735219
DTSTART;TZID=Europe/Berlin:20260524T190000
DURATION:PT30M
LOCATION:St. Martin
END:VEVENT
END:VCALENDAR
