BEGIN:VCALENDAR
VERSION:2.0
PRODID:-//Sabre//Sabre VObject 4.5.8//EN
CALSCALE:GREGORIAN
BEGIN:VEVENT
UID:sabre-vobject-b2a51138-78c6-4ad0-b216-da36a25f700d
DTSTAMP:20260425T183933Z
SUMMARY:Sonntagsmessfeier für
DESCRIPTION:https://www2.bistum-augsburg.de/gottesdienste/sonntagsmessfeier
 -fuer_id1735232
DTSTART;TZID=Europe/Berlin:20260531T083000
DURATION:PT30M
LOCATION:St. Vitus\, Hauptstraße 15\, 86465 Lauterbrunn
END:VEVENT
END:VCALENDAR
