BEGIN:VCALENDAR
VERSION:2.0
PRODID:-//Sabre//Sabre VObject 4.5.8//EN
CALSCALE:GREGORIAN
BEGIN:VEVENT
UID:sabre-vobject-592ae1f0-a9db-41f8-992a-038f5a719b75
DTSTAMP:20260426T013114Z
SUMMARY:Rosenkranz für den Frieden in der Welt
DESCRIPTION:https://www2.bistum-augsburg.de/gottesdienste/rosenkranz-fuer-d
 en-frieden-in-der-welt_id1735238
DTSTART;TZID=Europe/Berlin:20260502T183000
DURATION:PT30M
LOCATION:St. Stephan
END:VEVENT
END:VCALENDAR
