BEGIN:VCALENDAR
VERSION:2.0
PRODID:-//Sabre//Sabre VObject 4.5.8//EN
CALSCALE:GREGORIAN
BEGIN:VEVENT
UID:sabre-vobject-ba116ae6-ab28-4ac7-89f6-34952b5af0a2
DTSTAMP:20260426T030313Z
SUMMARY:Schülermesse
DESCRIPTION:https://www2.bistum-augsburg.de/gottesdienste/schuelermesse_id1
 735299
DTSTART;TZID=Europe/Berlin:20260506T183000
DURATION:PT30M
LOCATION:Mariä Himmelfahrt
END:VEVENT
END:VCALENDAR
