BEGIN:VCALENDAR
VERSION:2.0
PRODID:-//Sabre//Sabre VObject 4.5.8//EN
CALSCALE:GREGORIAN
BEGIN:VEVENT
UID:sabre-vobject-6e02480e-5833-4cae-b3ce-fb38b5c5fc22
DTSTAMP:20260425T231812Z
SUMMARY:Eucharistiefeier und kurze Maiandacht
DESCRIPTION:https://www2.bistum-augsburg.de/gottesdienste/eucharistiefeier-
 und-kurze-maiandacht_id1735316
DTSTART;TZID=Europe/Berlin:20260521T180000
DURATION:PT30M
LOCATION:St. Agatha
END:VEVENT
END:VCALENDAR
