BEGIN:VCALENDAR
VERSION:2.0
PRODID:-//Sabre//Sabre VObject 4.5.8//EN
CALSCALE:GREGORIAN
BEGIN:VEVENT
UID:sabre-vobject-7307b4c4-ff85-452a-8316-aaec07527156
DTSTAMP:20260425T115431Z
SUMMARY:Hl. Messe für die lebenden und verstorbenen Mitglieder unserer Pfa
 rreiengemeinschaft
DESCRIPTION:https://www2.bistum-augsburg.de/gottesdienste/hl-messe-fuer-die
 -lebenden-und-verstorbenen-mitglieder-unserer-pfarreiengemeinschaft_id1735
 353
DTSTART;TZID=Europe/Berlin:20260504T191500
DURATION:PT30M
LOCATION:St. Laurentius
END:VEVENT
END:VCALENDAR
