BEGIN:VCALENDAR
VERSION:2.0
PRODID:-//Sabre//Sabre VObject 4.5.8//EN
CALSCALE:GREGORIAN
BEGIN:VEVENT
UID:sabre-vobject-c3974cdd-0128-4da5-b8bd-5d6035adaffd
DTSTAMP:20260426T000132Z
SUMMARY:Taufe
DESCRIPTION:https://www2.bistum-augsburg.de/gottesdienste/taufe_id1735358
DTSTART;TZID=Europe/Berlin:20260501T140000
DURATION:PT30M
LOCATION:St. Michael\, Apfeltranger Dorfstraße 31\, 87674 Apfeltrang
END:VEVENT
END:VCALENDAR
