BEGIN:VCALENDAR
VERSION:2.0
PRODID:-//Sabre//Sabre VObject 4.5.8//EN
CALSCALE:GREGORIAN
BEGIN:VEVENT
UID:sabre-vobject-992578c5-555a-470e-845d-8708a8754add
DTSTAMP:20260425T105725Z
SUMMARY:Messfeier für
DESCRIPTION:https://www2.bistum-augsburg.de/gottesdienste/messfeier-fuer_id
 1735492
DTSTART;TZID=Europe/Berlin:20260519T190000
DURATION:PT30M
LOCATION:St. Johannes Baptist
END:VEVENT
END:VCALENDAR
