BEGIN:VCALENDAR
VERSION:2.0
PRODID:-//Sabre//Sabre VObject 4.5.8//EN
CALSCALE:GREGORIAN
BEGIN:VEVENT
UID:sabre-vobject-c756c3e4-04eb-4d85-90ef-e4798a7c8da6
DTSTAMP:20260426T002301Z
SUMMARY:Mariensingen (Kirchenchöre Beckstetten\, Bronnen\, Dösingen)
DESCRIPTION:https://www2.bistum-augsburg.de/gottesdienste/mariensingen-kirc
 henchoere-beckstetten-bronnen-doesingen_id1735499
DTSTART;TZID=Europe/Berlin:20260503T190000
DURATION:PT30M
LOCATION:St. Agatha
END:VEVENT
END:VCALENDAR
