BEGIN:VCALENDAR
VERSION:2.0
PRODID:-//Sabre//Sabre VObject 4.5.8//EN
CALSCALE:GREGORIAN
BEGIN:VEVENT
UID:sabre-vobject-f5cf2bd2-25d2-4131-bdfa-e0acfec703da
DTSTAMP:20260425T220704Z
SUMMARY:Heilige Messe im Johannesheim
DESCRIPTION:https://www2.bistum-augsburg.de/gottesdienste/heilige-messe-im-
 johannesheim_id1735539
DTSTART;TZID=Europe/Berlin:20260504T100000
DURATION:PT30M
LOCATION:St. Wolfgang
END:VEVENT
END:VCALENDAR
