BEGIN:VCALENDAR
VERSION:2.0
PRODID:-//Sabre//Sabre VObject 4.5.8//EN
CALSCALE:GREGORIAN
BEGIN:VEVENT
UID:sabre-vobject-8c92ce48-8f31-47a5-8d0b-0acf22631591
DTSTAMP:20260426T001315Z
SUMMARY:Festgottesdienst und Marienlob "Maria Schutzfrau von Bayern"
DESCRIPTION:https://www2.bistum-augsburg.de/gottesdienste/festgottesdienst-
 und-marienlob-maria-schutzfrau-von-bayern_id1735557
DTSTART;TZID=Europe/Berlin:20260501T100000
DURATION:PT30M
LOCATION:St. Anna
END:VEVENT
END:VCALENDAR
