BEGIN:VCALENDAR
VERSION:2.0
PRODID:-//Sabre//Sabre VObject 4.5.8//EN
CALSCALE:GREGORIAN
BEGIN:VEVENT
UID:sabre-vobject-ff56f213-8abd-429d-bc79-8cec8d675f44
DTSTAMP:20260425T152937Z
SUMMARY:Rosenkranz
DESCRIPTION:https://www2.bistum-augsburg.de/gottesdienste/rosenkranz_id1735
 587
DTSTART;TZID=Europe/Berlin:20260503T081500
DURATION:PT30M
LOCATION:St. Johannes Baptist\, Bgm.-Herz-Platz 9\, 87477 Sulzberg Moosbach
END:VEVENT
END:VCALENDAR
