BEGIN:VCALENDAR
VERSION:2.0
PRODID:-//Sabre//Sabre VObject 4.5.8//EN
CALSCALE:GREGORIAN
BEGIN:VEVENT
UID:sabre-vobject-dba44539-971f-4f2b-8c3d-836e3ae66b7b
DTSTAMP:20260425T132450Z
SUMMARY:Rosenkranz
DESCRIPTION:https://www2.bistum-augsburg.de/gottesdienste/rosenkranz_id1735
 600
DTSTART;TZID=Europe/Berlin:20260430T184500
DURATION:PT30M
LOCATION:Heilig Geist
END:VEVENT
END:VCALENDAR
