BEGIN:VCALENDAR
VERSION:2.0
PRODID:-//Sabre//Sabre VObject 4.5.8//EN
CALSCALE:GREGORIAN
BEGIN:VEVENT
UID:sabre-vobject-ff585fe8-b717-48a0-8f69-9a772060da6e
DTSTAMP:20260425T210051Z
SUMMARY:Vorabendmesse\, anschl. Maiandacht
DESCRIPTION:https://www2.bistum-augsburg.de/gottesdienste/vorabendmesse-ans
 chl-maiandacht_id1735610
DTSTART;TZID=Europe/Berlin:20260502T183000
DURATION:PT30M
LOCATION:Mutterschaft Mariens
END:VEVENT
END:VCALENDAR
