BEGIN:VCALENDAR
VERSION:2.0
PRODID:-//Sabre//Sabre VObject 4.5.8//EN
CALSCALE:GREGORIAN
BEGIN:VEVENT
UID:sabre-vobject-69e67746-caf4-4a27-ace5-c808f9ab7b50
DTSTAMP:20260425T175122Z
SUMMARY:Heilige Messe
DESCRIPTION:https://www2.bistum-augsburg.de/gottesdienste/heilige-messe_id1
 735649
DTSTART;TZID=Europe/Berlin:20260520T190000
DURATION:PT30M
LOCATION:St. Nikolaus\, Wertingerstraße 61\, 86405 Meitingen
END:VEVENT
END:VCALENDAR
