BEGIN:VCALENDAR
VERSION:2.0
PRODID:-//Sabre//Sabre VObject 4.5.8//EN
CALSCALE:GREGORIAN
BEGIN:VEVENT
UID:sabre-vobject-c825b716-d6ac-4528-877e-4541ea0aaa88
DTSTAMP:20260425T231614Z
SUMMARY:Pfarrgottesdienst\, im Anschluss Kirchenkaffee der Ministranten\n
DESCRIPTION:https://www2.bistum-augsburg.de/gottesdienste/pfarrgottesdienst
 -im-anschluss-kirchenkaffee-der-ministranten_id1735656
DTSTART;TZID=Europe/Berlin:20260503T094500
DURATION:PT30M
LOCATION:Heilig Geist
END:VEVENT
END:VCALENDAR
