BEGIN:VCALENDAR
VERSION:2.0
PRODID:-//Sabre//Sabre VObject 4.5.8//EN
CALSCALE:GREGORIAN
BEGIN:VEVENT
UID:sabre-vobject-47ce35ce-1ba1-482c-9f2d-e2a54d6978db
DTSTAMP:20260425T175749Z
SUMMARY:Pfarrkirche: Messfeier
DESCRIPTION:https://www2.bistum-augsburg.de/gottesdienste/pfarrkirche-messf
 eier_id1735661
DTSTART;TZID=Europe/Berlin:20260521T190000
DURATION:PT30M
LOCATION:Mariä Verkündigung\, Uzstraße 1\, 86465 Welden
END:VEVENT
END:VCALENDAR
