BEGIN:VCALENDAR
VERSION:2.0
PRODID:-//Sabre//Sabre VObject 4.5.8//EN
CALSCALE:GREGORIAN
BEGIN:VEVENT
UID:sabre-vobject-5a39d6b6-3895-4d77-a4bd-f3a76dae1c0c
DTSTAMP:20260425T160539Z
SUMMARY:Dreifaltigkeitskapelle: Maiandacht mit Stubenmusik (Helmut Weber T.
  5800876) - meldet sich wg. genauen Termin
DESCRIPTION:https://www2.bistum-augsburg.de/gottesdienste/dreifaltigkeitska
 pelle-maiandacht-mit-stubenmusik-helmut-weber-t-5800876-meldet-sich-wg-gen
 auen-termin_id1735680
DTSTART;TZID=Europe/Berlin:20260508T170000
DURATION:PT30M
LOCATION:St. Anton
END:VEVENT
END:VCALENDAR
