BEGIN:VCALENDAR
VERSION:2.0
PRODID:-//Sabre//Sabre VObject 4.5.8//EN
CALSCALE:GREGORIAN
BEGIN:VEVENT
UID:sabre-vobject-6bbab47f-362e-4f8d-90d0-3fd2ebf8aae0
DTSTAMP:20260425T152938Z
SUMMARY:Heilige Messe - Gest. KAB Meitingen "Arbeitnehmer-Gottesdienst"
DESCRIPTION:https://www2.bistum-augsburg.de/gottesdienste/heilige-messe-ges
 t-kab-meitingen-arbeitnehmer-gottesdienst_id1735720
DTSTART;TZID=Europe/Berlin:20260522T183000
DURATION:PT30M
LOCATION:St. Wolfgang
END:VEVENT
END:VCALENDAR
