BEGIN:VCALENDAR
VERSION:2.0
PRODID:-//Sabre//Sabre VObject 4.5.8//EN
CALSCALE:GREGORIAN
BEGIN:VEVENT
UID:sabre-vobject-da4bb8f4-4fad-47fa-86ae-758269d4910f
DTSTAMP:20260426T031716Z
SUMMARY:Entfällt - Heilige Messe - St. Vinzenz Hospiz
DESCRIPTION:https://www2.bistum-augsburg.de/gottesdienste/entfaellt-heilige
 -messe-st-vinzenz-hospiz_id1735725
DTSTART;TZID=Europe/Berlin:20260521T183000
DURATION:PT30M
LOCATION:St. Martin
END:VEVENT
END:VCALENDAR
