BEGIN:VCALENDAR
VERSION:2.0
PRODID:-//Sabre//Sabre VObject 4.5.8//EN
CALSCALE:GREGORIAN
BEGIN:VEVENT
UID:sabre-vobject-eac897bc-23f8-4db2-9d59-889579aa2d2d
DTSTAMP:20260425T190402Z
SUMMARY:Hl. Messe in italienischer Sprache
DESCRIPTION:https://www2.bistum-augsburg.de/gottesdienste/hl-messe-in-itali
 enischer-sprache_id1735732
DTSTART;TZID=Europe/Berlin:20260502T170000
DURATION:PT30M
LOCATION:St. Anton
END:VEVENT
END:VCALENDAR
