BEGIN:VCALENDAR
VERSION:2.0
PRODID:-//Sabre//Sabre VObject 4.5.8//EN
CALSCALE:GREGORIAN
BEGIN:VEVENT
UID:sabre-vobject-c3f5ecc0-2cba-416d-b306-bd2dceb36d31
DTSTAMP:20260425T120642Z
SUMMARY:Rosenkranz für Berufungen zum Priester- und Ordensleben
DESCRIPTION:https://www2.bistum-augsburg.de/gottesdienste/rosenkranz-fuer-b
 erufungen-zum-priester-und-ordensleben_id1735750
DTSTART;TZID=Europe/Berlin:20260507T173000
DURATION:PT30M
LOCATION:St. Anton
END:VEVENT
END:VCALENDAR
