BEGIN:VCALENDAR
VERSION:2.0
PRODID:-//Sabre//Sabre VObject 4.5.8//EN
CALSCALE:GREGORIAN
BEGIN:VEVENT
UID:sabre-vobject-b1add835-6fdb-41b3-b93d-cbb9d5b136bb
DTSTAMP:20260425T105815Z
SUMMARY:Seniorennachmittag
DESCRIPTION:https://www2.bistum-augsburg.de/gottesdienste/seniorennachmitta
 g_id1735769
DTSTART;TZID=Europe/Berlin:20260505T133000
DURATION:PT30M
LOCATION:St. Martin
END:VEVENT
END:VCALENDAR
