BEGIN:VCALENDAR
VERSION:2.0
PRODID:-//Sabre//Sabre VObject 4.5.8//EN
CALSCALE:GREGORIAN
BEGIN:VEVENT
UID:sabre-vobject-102c288d-bbde-4ddd-b638-c08efb68a6cf
DTSTAMP:20260426T031706Z
SUMMARY:Maiandacht am Inselweiher\, musikalisch gestaltet von der Musikkape
 lle Dietmannsried\, anschließend Dämmerschoppen
DESCRIPTION:https://www2.bistum-augsburg.de/gottesdienste/maiandacht-am-ins
 elweiher-musikalisch-gestaltet-von-der-musikkapelle-dietmannsried-anschlie
 ssend-daemmerschoppen_id1735789
DTSTART;TZID=Europe/Berlin:20260510T180000
DURATION:PT30M
LOCATION:St. Blasius
END:VEVENT
END:VCALENDAR
