BEGIN:VCALENDAR
VERSION:2.0
PRODID:-//Sabre//Sabre VObject 4.5.8//EN
CALSCALE:GREGORIAN
BEGIN:VEVENT
UID:sabre-vobject-04faba32-2a5a-4b87-9ff9-fd6e84af95e4
DTSTAMP:20260425T141110Z
SUMMARY:KLB-Sternwallfahrt zur Hl. Crescentia v. Kaufbeuren (19:00 Uhr Gott
 esdienst im Innenhof des Crescentiaklosters - bei schlechtem Wetter in der
  Martinskirche)
DESCRIPTION:https://www2.bistum-augsburg.de/gottesdienste/klb-sternwallfahr
 t-zur-hl-crescentia-v-kaufbeuren-19-00-uhr-gottesdienst-im-innenhof-des-cr
 escentiaklosters-bei-schlechtem-wetter-in-der-martinskirche_id1735799
DTSTART;TZID=Europe/Berlin:20260505T133000
DURATION:PT30M
LOCATION:St. Martin
END:VEVENT
END:VCALENDAR
