BEGIN:VCALENDAR
VERSION:2.0
PRODID:-//Sabre//Sabre VObject 4.5.8//EN
CALSCALE:GREGORIAN
BEGIN:VEVENT
UID:sabre-vobject-d396a6df-5024-4f8b-8458-2b5dbcd5cf16
DTSTAMP:20260425T220705Z
SUMMARY:Cantate Domino - Cantate domino cantum novum - CANTARE SUPER LIBRUM
  - Motetten aus dem Eton Choirbook\, Liber Selectarum\, Chigi Codex und an
 deren (Kammerchor der Domsingknaben)
DESCRIPTION:https://www2.bistum-augsburg.de/gottesdienste/cantate-domino-ca
 ntate-domino-cantum-novum-cantare-super-librum-motetten-aus-dem-eton-choir
 book-liber-selectarum-chigi-codex-und-anderen-kammerchor-der-domsingknaben
 _id1735863
DTSTART;TZID=Europe/Berlin:20260502T180000
DURATION:PT30M
LOCATION:Augsburger Dom Hlgst. Herz Jesu\, Frauentorstraße 1\, 86152 Augsb
 urg-Dom
END:VEVENT
END:VCALENDAR
