BEGIN:VCALENDAR
VERSION:2.0
PRODID:-//Sabre//Sabre VObject 4.5.8//EN
CALSCALE:GREGORIAN
BEGIN:VEVENT
UID:sabre-vobject-00974d4c-40e1-43fb-8728-e58a85cb99f2
DTSTAMP:20260425T173620Z
SUMMARY:Maiandacht in St. Gallus
DESCRIPTION:https://www2.bistum-augsburg.de/gottesdienste/maiandacht-in-st-
 gallus_id1735872
DTSTART;TZID=Europe/Berlin:20260512T190000
DURATION:PT30M
LOCATION:Augsburger Dom Hlgst. Herz Jesu\, Frauentorstraße 1\, 86152 Augsb
 urg-Dom
END:VEVENT
END:VCALENDAR
