BEGIN:VCALENDAR
VERSION:2.0
PRODID:-//Sabre//Sabre VObject 4.5.8//EN
CALSCALE:GREGORIAN
BEGIN:VEVENT
UID:sabre-vobject-f5ae3355-101f-496f-8dc4-84141d999eae
DTSTAMP:20260425T220810Z
SUMMARY:Dompredigermesse
DESCRIPTION:https://www2.bistum-augsburg.de/gottesdienste/dompredigermesse_
 id1735890
DTSTART;TZID=Europe/Berlin:20260503T113000
DURATION:PT30M
LOCATION:Augsburger Dom Hlgst. Herz Jesu\, Frauentorstraße 1\, 86152 Augsb
 urg-Dom
END:VEVENT
END:VCALENDAR
