BEGIN:VCALENDAR
VERSION:2.0
PRODID:-//Sabre//Sabre VObject 4.5.8//EN
CALSCALE:GREGORIAN
BEGIN:VEVENT
UID:sabre-vobject-0ba8c410-1279-4911-8a4c-f007fa3de029
DTSTAMP:20260425T150857Z
SUMMARY:Maiandacht in St. Gallus
DESCRIPTION:https://www2.bistum-augsburg.de/gottesdienste/maiandacht-in-st-
 gallus_id1735897
DTSTART;TZID=Europe/Berlin:20260505T190000
DURATION:PT30M
LOCATION:Augsburger Dom Hlgst. Herz Jesu\, Frauentorstraße 1\, 86152 Augsb
 urg-Dom
END:VEVENT
END:VCALENDAR
