BEGIN:VCALENDAR
VERSION:2.0
PRODID:-//Sabre//Sabre VObject 4.5.8//EN
CALSCALE:GREGORIAN
BEGIN:VEVENT
UID:sabre-vobject-1595b624-1218-40fb-92e8-7d4eb9166247
DTSTAMP:20260425T220829Z
SUMMARY:Maiandacht in St. Gallus
DESCRIPTION:https://www2.bistum-augsburg.de/gottesdienste/maiandacht-in-st-
 gallus_id1735927
DTSTART;TZID=Europe/Berlin:20260519T190000
DURATION:PT30M
LOCATION:Augsburger Dom Hlgst. Herz Jesu\, Frauentorstraße 1\, 86152 Augsb
 urg-Dom
END:VEVENT
END:VCALENDAR
