BEGIN:VCALENDAR
VERSION:2.0
PRODID:-//Sabre//Sabre VObject 4.5.8//EN
CALSCALE:GREGORIAN
BEGIN:VEVENT
UID:sabre-vobject-f40af22a-00fc-412f-a5c3-75d0d0b0c76d
DTSTAMP:20260425T150754Z
SUMMARY:Ökumenischer Berggottesdienst am Gipfelkreuz der Hündle Bergstati
 on (leichte Wanderung\, ca. 20 Minuten von der Bergstation zum Gipfel)
DESCRIPTION:https://www2.bistum-augsburg.de/gottesdienste/oekumenischer-ber
 ggottesdienst-am-gipfelkreuz-der-huendle-bergstation-leichte-wanderung-ca-
 20-minuten-von-der-bergstation-zum-gipfel_id1735967
DTSTART;TZID=Europe/Berlin:20260529T113000
DURATION:PT30M
LOCATION:St. Peter und Paul
END:VEVENT
END:VCALENDAR
