BEGIN:VCALENDAR
VERSION:2.0
PRODID:-//Sabre//Sabre VObject 4.5.8//EN
CALSCALE:GREGORIAN
BEGIN:VEVENT
UID:sabre-vobject-12967a47-f481-45bf-baac-8bdaeeae7afa
DTSTAMP:20260425T181936Z
SUMMARY:"Pfingstmesse im Freien" vor der Kurverwaltung Steibis \n(musikalis
 che Gestaltung: der Blasmusik Steibis)
DESCRIPTION:https://www2.bistum-augsburg.de/gottesdienste/pfingstmesse-im-f
 reien-vor-der-kurverwaltung-steibis-musikalische-gestaltung-der-blasmusik-
 steibis_id1736009
DTSTART;TZID=Europe/Berlin:20260525T100000
DURATION:PT30M
LOCATION:Verklärung Christi
END:VEVENT
END:VCALENDAR
