BEGIN:VCALENDAR
VERSION:2.0
PRODID:-//Sabre//Sabre VObject 4.5.8//EN
CALSCALE:GREGORIAN
BEGIN:VEVENT
UID:sabre-vobject-3a9ef541-3a7f-46b0-b37f-3eede89b58de
DTSTAMP:20260425T160612Z
SUMMARY:Pfarrkirche: Maiandacht gestaltet vom Stefanuskreis
DESCRIPTION:https://www2.bistum-augsburg.de/gottesdienste/pfarrkirche-maian
 dacht-gestaltet-vom-stefanuskreis_id1736035
DTSTART;TZID=Europe/Berlin:20260503T190000
DURATION:PT30M
LOCATION:Mariä Verkündigung\, Uzstraße 1\, 86465 Welden
END:VEVENT
END:VCALENDAR
