BEGIN:VCALENDAR
VERSION:2.0
PRODID:-//Sabre//Sabre VObject 4.5.8//EN
CALSCALE:GREGORIAN
BEGIN:VEVENT
UID:sabre-vobject-c53eae72-09f7-4f67-9303-ccf239c67096
DTSTAMP:20260425T154256Z
SUMMARY:Messfeier für
DESCRIPTION:https://www2.bistum-augsburg.de/gottesdienste/messfeier-fuer_id
 1736040
DTSTART;TZID=Europe/Berlin:20260506T190000
DURATION:PT30M
LOCATION:St. Vitus\, Hauptstraße 15\, 86465 Lauterbrunn
END:VEVENT
END:VCALENDAR
