BEGIN:VCALENDAR
VERSION:2.0
PRODID:-//Sabre//Sabre VObject 4.5.8//EN
CALSCALE:GREGORIAN
BEGIN:VEVENT
UID:sabre-vobject-c6bac170-9ce6-4c0a-9c87-e59c2148c56a
DTSTAMP:20260426T031647Z
SUMMARY:Feierlicher Erstkommunionsgottesdienst 1
DESCRIPTION:https://www2.bistum-augsburg.de/gottesdienste/feierlicher-erstk
 ommunionsgottesdienst-1_id1736051
DTSTART;TZID=Europe/Berlin:20260502T093000
DURATION:PT30M
LOCATION:St. Jakobus maj.\, St.-Jakobs-Platz\, 86316 Friedberg
END:VEVENT
END:VCALENDAR
