BEGIN:VCALENDAR
VERSION:2.0
PRODID:-//Sabre//Sabre VObject 4.5.8//EN
CALSCALE:GREGORIAN
NAME:Bistum Augsburg
X-WR-CALNAME:Bistum Augsburg
BEGIN:VEVENT
UID:sabre-vobject-4ba76e7a-1487-4516-abd2-76aa8c2a0f10
DTSTAMP:20260426T040738Z
SUMMARY:Heilige Messe
DESCRIPTION:https://www2.bistum-augsburg.de/gottesdienste/heilige-messe_id1
 704711
DTSTART;TZID=Europe/Berlin:20260426T083000
DURATION:PT30M
LOCATION:Heilig Geist
END:VEVENT
BEGIN:VEVENT
UID:sabre-vobject-26433730-0fd7-42e1-a288-d23c8acd3364
DTSTAMP:20260426T040738Z
SUMMARY:Messfeier
DESCRIPTION:https://www2.bistum-augsburg.de/gottesdienste/messfeier_id17047
 14
DTSTART;TZID=Europe/Berlin:20260426T110000
DURATION:PT30M
LOCATION:Heilig Geist
END:VEVENT
BEGIN:VEVENT
UID:sabre-vobject-07a37f59-e82b-45ee-b328-afbb36a594e3
DTSTAMP:20260426T040738Z
SUMMARY:Abendmesse
DESCRIPTION:https://www2.bistum-augsburg.de/gottesdienste/abendmesse_id1704
 715
DTSTART;TZID=Europe/Berlin:20260426T183000
DURATION:PT30M
LOCATION:Heilig Geist
END:VEVENT
BEGIN:VEVENT
UID:sabre-vobject-7cc45d12-6521-45d4-a931-c8d2e2254bee
DTSTAMP:20260426T040738Z
SUMMARY:Rosenkranz
DESCRIPTION:https://www2.bistum-augsburg.de/gottesdienste/rosenkranz_id1704
 716
DTSTART;TZID=Europe/Berlin:20260428T173000
DURATION:PT30M
LOCATION:Heilig Geist
END:VEVENT
BEGIN:VEVENT
UID:sabre-vobject-28fb70b0-d5c3-4a69-8276-41cdc9398d03
DTSTAMP:20260426T040738Z
SUMMARY:Messfeier
DESCRIPTION:https://www2.bistum-augsburg.de/gottesdienste/messfeier_id17047
 17
DTSTART;TZID=Europe/Berlin:20260429T090000
DURATION:PT30M
LOCATION:Heilig Geist
END:VEVENT
BEGIN:VEVENT
UID:sabre-vobject-0b33bc74-5715-4728-b055-8af2c113d8f0
DTSTAMP:20260426T040738Z
SUMMARY:Rosenkranz
DESCRIPTION:https://www2.bistum-augsburg.de/gottesdienste/rosenkranz_id1704
 718
DTSTART;TZID=Europe/Berlin:20260430T173000
DURATION:PT30M
LOCATION:Heilig Geist
END:VEVENT
BEGIN:VEVENT
UID:sabre-vobject-4e4f85ed-cc9b-4962-a6fe-9757db306463
DTSTAMP:20260426T040738Z
SUMMARY:Abendmesse
DESCRIPTION:https://www2.bistum-augsburg.de/gottesdienste/abendmesse_id1704
 719
DTSTART;TZID=Europe/Berlin:20260430T180000
DURATION:PT30M
LOCATION:Heilig Geist
END:VEVENT
BEGIN:VEVENT
UID:sabre-vobject-06a92b6b-c77b-4666-9945-1d2daf5e6c7d
DTSTAMP:20260426T040738Z
SUMMARY:Messfeier
DESCRIPTION:https://www2.bistum-augsburg.de/gottesdienste/messfeier_id17047
 20
DTSTART;TZID=Europe/Berlin:20260501T110000
DURATION:PT30M
LOCATION:Heilig Geist
END:VEVENT
BEGIN:VEVENT
UID:sabre-vobject-c3225c5b-01a0-48af-9192-e202d1dd7d89
DTSTAMP:20260426T040738Z
SUMMARY:Rosenkranz
DESCRIPTION:https://www2.bistum-augsburg.de/gottesdienste/rosenkranz_id1704
 757
DTSTART;TZID=Europe/Berlin:20260501T173000
DURATION:PT30M
LOCATION:Heilig Geist
END:VEVENT
BEGIN:VEVENT
UID:sabre-vobject-42ad3087-4382-4f6f-bfee-6cda5db294a2
DTSTAMP:20260426T040738Z
SUMMARY:Rosenkranz
DESCRIPTION:https://www2.bistum-augsburg.de/gottesdienste/rosenkranz_id1715
 921
DTSTART;TZID=Europe/Berlin:20260502T173000
DURATION:PT30M
LOCATION:Heilig Geist
END:VEVENT
BEGIN:VEVENT
UID:sabre-vobject-8b39b297-f478-4197-9858-87a471d54716
DTSTAMP:20260426T040738Z
SUMMARY:Heilige Messe
DESCRIPTION:https://www2.bistum-augsburg.de/gottesdienste/heilige-messe_id1
 715877
DTSTART;TZID=Europe/Berlin:20260503T083000
DURATION:PT30M
LOCATION:Heilig Geist
END:VEVENT
BEGIN:VEVENT
UID:sabre-vobject-206d4824-e50f-46ac-b4a9-1d7468202efd
DTSTAMP:20260426T040738Z
SUMMARY:Messfeier
DESCRIPTION:https://www2.bistum-augsburg.de/gottesdienste/messfeier_id17158
 95
DTSTART;TZID=Europe/Berlin:20260503T110000
DURATION:PT30M
LOCATION:Heilig Geist
END:VEVENT
BEGIN:VEVENT
UID:sabre-vobject-6ea2307d-992d-4c93-94a9-6e4202a03025
DTSTAMP:20260426T040738Z
SUMMARY:Maiandacht
DESCRIPTION:https://www2.bistum-augsburg.de/gottesdienste/maiandacht_id1715
 907
DTSTART;TZID=Europe/Berlin:20260503T170000
DURATION:PT30M
LOCATION:Heilig Geist
END:VEVENT
BEGIN:VEVENT
UID:sabre-vobject-611ce94f-eea5-4eb5-b85d-76b83ec4c357
DTSTAMP:20260426T040738Z
SUMMARY:Rosenkranz
DESCRIPTION:https://www2.bistum-augsburg.de/gottesdienste/rosenkranz_id1715
 923
DTSTART;TZID=Europe/Berlin:20260505T173000
DURATION:PT30M
LOCATION:Heilig Geist
END:VEVENT
BEGIN:VEVENT
UID:sabre-vobject-5e81c847-afc7-4998-b693-7879d06b36c8
DTSTAMP:20260426T040738Z
SUMMARY:Messfeier
DESCRIPTION:https://www2.bistum-augsburg.de/gottesdienste/messfeier_id17160
 76
DTSTART;TZID=Europe/Berlin:20260506T090000
DURATION:PT30M
LOCATION:Heilig Geist
END:VEVENT
BEGIN:VEVENT
UID:sabre-vobject-2c916a33-50dd-4a90-837e-f88f30aeb1be
DTSTAMP:20260426T040738Z
SUMMARY:Rosenkranz
DESCRIPTION:https://www2.bistum-augsburg.de/gottesdienste/rosenkranz_id1716
 077
DTSTART;TZID=Europe/Berlin:20260507T173000
DURATION:PT30M
LOCATION:Heilig Geist
END:VEVENT
BEGIN:VEVENT
UID:sabre-vobject-01211b5c-217d-40db-b1c7-3e35bfde87e5
DTSTAMP:20260426T040738Z
SUMMARY:Abendmesse
DESCRIPTION:https://www2.bistum-augsburg.de/gottesdienste/abendmesse_id1716
 081
DTSTART;TZID=Europe/Berlin:20260507T180000
DURATION:PT30M
LOCATION:Heilig Geist
END:VEVENT
BEGIN:VEVENT
UID:sabre-vobject-e0f3fff3-06f6-45c8-b0da-adc8a8bc8fdd
DTSTAMP:20260426T040738Z
SUMMARY:Messfeier
DESCRIPTION:https://www2.bistum-augsburg.de/gottesdienste/messfeier_id17161
 08
DTSTART;TZID=Europe/Berlin:20260508T090000
DURATION:PT30M
LOCATION:Heilig Geist
END:VEVENT
BEGIN:VEVENT
UID:sabre-vobject-fd5a1f2e-2458-4681-9b37-6782faa12308
DTSTAMP:20260426T040738Z
SUMMARY:Rosenkranz
DESCRIPTION:https://www2.bistum-augsburg.de/gottesdienste/rosenkranz_id1716
 109
DTSTART;TZID=Europe/Berlin:20260508T173000
DURATION:PT30M
LOCATION:Heilig Geist
END:VEVENT
BEGIN:VEVENT
UID:sabre-vobject-333f77fa-c287-42ee-b6ab-e999f424ad83
DTSTAMP:20260426T040738Z
SUMMARY:Rosenkranz
DESCRIPTION:https://www2.bistum-augsburg.de/gottesdienste/rosenkranz_id1725
 158
DTSTART;TZID=Europe/Berlin:20260509T173000
DURATION:PT30M
LOCATION:Heilig Geist
END:VEVENT
BEGIN:VEVENT
UID:sabre-vobject-002ac7b9-fc7c-41f7-b5ce-91645ff3d352
DTSTAMP:20260426T040738Z
SUMMARY:Messfeier
DESCRIPTION:https://www2.bistum-augsburg.de/gottesdienste/messfeier_id17251
 33
DTSTART;TZID=Europe/Berlin:20260510T110000
DURATION:PT30M
LOCATION:Heilig Geist
END:VEVENT
BEGIN:VEVENT
UID:sabre-vobject-89d7a032-7fbb-4f4e-be4c-741db632b56c
DTSTAMP:20260426T040738Z
SUMMARY:Maiandacht
DESCRIPTION:https://www2.bistum-augsburg.de/gottesdienste/maiandacht_id1725
 140
DTSTART;TZID=Europe/Berlin:20260510T170000
DURATION:PT30M
LOCATION:Heilig Geist
END:VEVENT
BEGIN:VEVENT
UID:sabre-vobject-582cee44-f2d1-45f5-ab70-b439a99f065d
DTSTAMP:20260426T040738Z
SUMMARY:Bittgang nach Maria Alber\, anschließend
DESCRIPTION:https://www2.bistum-augsburg.de/gottesdienste/bittgang-nach-mar
 ia-alber-anschliessend_id1725159
DTSTART;TZID=Europe/Berlin:20260511T060000
DURATION:PT30M
LOCATION:Heilig Geist
END:VEVENT
BEGIN:VEVENT
UID:sabre-vobject-ac8e4fd2-71e1-46dd-a131-2cee120b1759
DTSTAMP:20260426T040738Z
SUMMARY:Bittmesse
DESCRIPTION:https://www2.bistum-augsburg.de/gottesdienste/bittmesse_id17251
 60
DTSTART;TZID=Europe/Berlin:20260511T061500
DURATION:PT30M
LOCATION:Heilig Geist
END:VEVENT
BEGIN:VEVENT
UID:sabre-vobject-83d8547f-110b-4273-ba46-0fceda53a221
DTSTAMP:20260426T040738Z
SUMMARY:Rosenkranz
DESCRIPTION:https://www2.bistum-augsburg.de/gottesdienste/rosenkranz_id1725
 321
DTSTART;TZID=Europe/Berlin:20260512T173000
DURATION:PT30M
LOCATION:Heilig Geist
END:VEVENT
BEGIN:VEVENT
UID:sabre-vobject-38c94237-cccc-47fc-b210-e66916c91e33
DTSTAMP:20260426T040738Z
SUMMARY:Bittgang nach Maria Alber\, anschließend
DESCRIPTION:https://www2.bistum-augsburg.de/gottesdienste/bittgang-nach-mar
 ia-alber-anschliessend_id1725322
DTSTART;TZID=Europe/Berlin:20260513T060000
DURATION:PT30M
LOCATION:Heilig Geist
END:VEVENT
BEGIN:VEVENT
UID:sabre-vobject-f0032a4c-4475-44db-8f35-c15741612bd0
DTSTAMP:20260426T040738Z
SUMMARY:Bittmesse
DESCRIPTION:https://www2.bistum-augsburg.de/gottesdienste/bittmesse_id17253
 23
DTSTART;TZID=Europe/Berlin:20260513T061500
DURATION:PT30M
LOCATION:Heilig Geist
END:VEVENT
BEGIN:VEVENT
UID:sabre-vobject-4318a407-8425-4be3-81c8-0658e5b74209
DTSTAMP:20260426T040738Z
SUMMARY:Maiandacht
DESCRIPTION:https://www2.bistum-augsburg.de/gottesdienste/maiandacht_id1725
 339
DTSTART;TZID=Europe/Berlin:20260513T143000
DURATION:PT30M
LOCATION:Heilig Geist
END:VEVENT
BEGIN:VEVENT
UID:sabre-vobject-2e323edd-c95e-47a0-b36e-f5d3b104681b
DTSTAMP:20260426T040738Z
SUMMARY:Festgottesdienst
DESCRIPTION:https://www2.bistum-augsburg.de/gottesdienste/festgottesdienst_
 id1725340
DTSTART;TZID=Europe/Berlin:20260514T110000
DURATION:PT30M
LOCATION:Heilig Geist
END:VEVENT
BEGIN:VEVENT
UID:sabre-vobject-01c2553f-ba52-4444-a15d-36e30096d2cf
DTSTAMP:20260426T040738Z
SUMMARY:Messfeier
DESCRIPTION:https://www2.bistum-augsburg.de/gottesdienste/messfeier_id17253
 41
DTSTART;TZID=Europe/Berlin:20260515T090000
DURATION:PT30M
LOCATION:Heilig Geist
END:VEVENT
BEGIN:VEVENT
UID:sabre-vobject-5d47ae36-4fed-456e-9e5b-5d77e8944a7a
DTSTAMP:20260426T040738Z
SUMMARY:Rosenkranz
DESCRIPTION:https://www2.bistum-augsburg.de/gottesdienste/rosenkranz_id1725
 342
DTSTART;TZID=Europe/Berlin:20260515T173000
DURATION:PT30M
LOCATION:Heilig Geist
END:VEVENT
END:VCALENDAR
