BEGIN:VCALENDAR
VERSION:2.0
PRODID:-//Sabre//Sabre VObject 4.5.8//EN
CALSCALE:GREGORIAN
NAME:Bistum Augsburg
X-WR-CALNAME:Bistum Augsburg
BEGIN:VEVENT
UID:sabre-vobject-89cd7375-d1bc-4b98-83ab-948001f1b761
DTSTAMP:20260426T041008Z
SUMMARY:Feier der Erstkommunion gestaltet von Cantalom
DESCRIPTION:https://www2.bistum-augsburg.de/gottesdienste/feier-der-erstkom
 munion-gestaltet-von-cantalom_id1724822
DTSTART;TZID=Europe/Berlin:20260426T103000
DURATION:PT30M
LOCATION:St. Johannes und Magdalena
END:VEVENT
BEGIN:VEVENT
UID:sabre-vobject-7db69161-d162-450a-a6e9-574f407e3994
DTSTAMP:20260426T041008Z
SUMMARY:Rosenkranz
DESCRIPTION:https://www2.bistum-augsburg.de/gottesdienste/rosenkranz_id1724
 823
DTSTART;TZID=Europe/Berlin:20260430T181500
DURATION:PT30M
LOCATION:St. Johannes und Magdalena
END:VEVENT
BEGIN:VEVENT
UID:sabre-vobject-03ac286d-be2f-4275-8bcd-85e98d14433d
DTSTAMP:20260426T041008Z
SUMMARY:Heilige Messe
DESCRIPTION:https://www2.bistum-augsburg.de/gottesdienste/heilige-messe_id1
 724842
DTSTART;TZID=Europe/Berlin:20260430T183000
DURATION:PT30M
LOCATION:St. Johannes und Magdalena
END:VEVENT
BEGIN:VEVENT
UID:sabre-vobject-5f9b9220-50bc-43f9-bbb3-2ce8eee6fd08
DTSTAMP:20260426T041008Z
SUMMARY:Heilige Messe
DESCRIPTION:https://www2.bistum-augsburg.de/gottesdienste/heilige-messe_id1
 724843
DTSTART;TZID=Europe/Berlin:20260501T103000
DURATION:PT30M
LOCATION:St. Johannes und Magdalena
END:VEVENT
BEGIN:VEVENT
UID:sabre-vobject-bad234de-d185-4801-8145-7c362f6a698a
DTSTAMP:20260426T041008Z
SUMMARY:Rosenkranz
DESCRIPTION:https://www2.bistum-augsburg.de/gottesdienste/rosenkranz_id1724
 844
DTSTART;TZID=Europe/Berlin:20260502T184500
DURATION:PT30M
LOCATION:St. Johannes und Magdalena
END:VEVENT
BEGIN:VEVENT
UID:sabre-vobject-6ec5842e-478b-4834-a5ef-db9b8c7e6237
DTSTAMP:20260426T041008Z
SUMMARY:Heilige Messe
DESCRIPTION:https://www2.bistum-augsburg.de/gottesdienste/heilige-messe_id1
 724846
DTSTART;TZID=Europe/Berlin:20260502T191500
DURATION:PT30M
LOCATION:St. Johannes und Magdalena
END:VEVENT
BEGIN:VEVENT
UID:sabre-vobject-d4ee9741-f613-471d-b293-73c54c05c2db
DTSTAMP:20260426T041008Z
SUMMARY:Rosenkranz
DESCRIPTION:https://www2.bistum-augsburg.de/gottesdienste/rosenkranz_id1724
 926
DTSTART;TZID=Europe/Berlin:20260507T181500
DURATION:PT30M
LOCATION:St. Johannes und Magdalena
END:VEVENT
BEGIN:VEVENT
UID:sabre-vobject-d474fe7d-be9c-4b68-8f45-a41bbde9dd1c
DTSTAMP:20260426T041008Z
SUMMARY:Taufe Leone Andreas Widmann (darf im Kirchenanzeiger veröffentlich
 t werden)
DESCRIPTION:https://www2.bistum-augsburg.de/gottesdienste/taufe-leone-andre
 as-widmann-darf-im-kirchenanzeiger-veroeffentlicht-werden_id1724814
DTSTART;TZID=Europe/Berlin:20260509T103000
DURATION:PT30M
LOCATION:St. Johannes und Magdalena
END:VEVENT
BEGIN:VEVENT
UID:sabre-vobject-7a22c91c-5235-4f77-8322-3fefd68aa098
DTSTAMP:20260426T041008Z
SUMMARY:Floriansmesse für alle FFW der Gemeinde Affing mit Segnung des neu
 en Feuerwehrautos
DESCRIPTION:https://www2.bistum-augsburg.de/gottesdienste/floriansmesse-fue
 r-alle-ffw-der-gemeinde-affing-mit-segnung-des-neuen-feuerwehrautos_id1724
 815
DTSTART;TZID=Europe/Berlin:20260509T160000
DURATION:PT30M
LOCATION:St. Johannes und Magdalena
END:VEVENT
BEGIN:VEVENT
UID:sabre-vobject-bd4e08bf-395a-407c-bfb5-f1670c13306a
DTSTAMP:20260426T041008Z
SUMMARY:Maiandacht an der Marienkapelle gestaltet von der Volkstanzgruppe
DESCRIPTION:https://www2.bistum-augsburg.de/gottesdienste/maiandacht-an-der
 -marienkapelle-gestaltet-von-der-volkstanzgruppe_id1724816
DTSTART;TZID=Europe/Berlin:20260513T190000
DURATION:PT30M
LOCATION:St. Johannes und Magdalena
END:VEVENT
END:VCALENDAR
