BEGIN:VCALENDAR
VERSION:2.0
PRODID:-//Sabre//Sabre VObject 4.5.8//EN
CALSCALE:GREGORIAN
NAME:Bistum Augsburg
X-WR-CALNAME:Bistum Augsburg
BEGIN:VEVENT
UID:sabre-vobject-839e455e-e3cc-489f-9e2b-548de600307e
DTSTAMP:20260426T000102Z
SUMMARY:Festgottesdienst zur Feier der Erstkommunion
DESCRIPTION:https://www2.bistum-augsburg.de/gottesdienste/festgottesdienst-
 zur-feier-der-erstkommunion_id1713797
DTSTART;TZID=Europe/Berlin:20260426T100000
DURATION:PT30M
LOCATION:St. Nikolaus
END:VEVENT
BEGIN:VEVENT
UID:sabre-vobject-4b8b96aa-f954-47ac-93f1-2d544ac0552d
DTSTAMP:20260426T000102Z
SUMMARY:Rosenkranz
DESCRIPTION:https://www2.bistum-augsburg.de/gottesdienste/rosenkranz_id1713
 798
DTSTART;TZID=Europe/Berlin:20260427T080000
DURATION:PT30M
LOCATION:St. Nikolaus
END:VEVENT
BEGIN:VEVENT
UID:sabre-vobject-8dbcc389-3c76-44c7-9db2-6a637039b0bc
DTSTAMP:20260426T000102Z
SUMMARY:Eucharistiefeier (verstorbene Mitglieder der Harmoniemusik Maingrü
 ndel)
DESCRIPTION:https://www2.bistum-augsburg.de/gottesdienste/eucharistiefeier-
 verstorbene-mitglieder-der-harmoniemusik-maingruendel_id1713794
DTSTART;TZID=Europe/Berlin:20260501T100000
DURATION:PT30M
LOCATION:St. Nikolaus
END:VEVENT
BEGIN:VEVENT
UID:sabre-vobject-65932dfc-ae71-49df-9a19-9493415c3542
DTSTAMP:20260426T000102Z
SUMMARY:Maiandacht mit Eucharistischem Segen und Fahrzeugsegnung
DESCRIPTION:https://www2.bistum-augsburg.de/gottesdienste/maiandacht-mit-eu
 charistischem-segen-und-fahrzeugsegnung_id1733408
DTSTART;TZID=Europe/Berlin:20260503T190000
DURATION:PT30M
LOCATION:St. Nikolaus
END:VEVENT
BEGIN:VEVENT
UID:sabre-vobject-1c495b2d-32fe-4c5f-9cf0-2c46e17acad6
DTSTAMP:20260426T000102Z
SUMMARY:Rosenkranz
DESCRIPTION:https://www2.bistum-augsburg.de/gottesdienste/rosenkranz_id1733
 409
DTSTART;TZID=Europe/Berlin:20260504T080000
DURATION:PT30M
LOCATION:St. Nikolaus
END:VEVENT
BEGIN:VEVENT
UID:sabre-vobject-de12b37a-972c-4335-b65b-c5413d9ad272
DTSTAMP:20260426T000102Z
SUMMARY:Eucharistiefeier am Vorabend mit anschl. Bittprozession
DESCRIPTION:https://www2.bistum-augsburg.de/gottesdienste/eucharistiefeier-
 am-vorabend-mit-anschl-bittprozession_id1733410
DTSTART;TZID=Europe/Berlin:20260509T190000
DURATION:PT30M
LOCATION:St. Nikolaus
END:VEVENT
BEGIN:VEVENT
UID:sabre-vobject-07f24c9e-a8b6-4d92-bdfc-ffd7bf9f0ab0
DTSTAMP:20260426T000102Z
SUMMARY:Bittandacht
DESCRIPTION:https://www2.bistum-augsburg.de/gottesdienste/bittandacht_id173
 3411
DTSTART;TZID=Europe/Berlin:20260511T080000
DURATION:PT30M
LOCATION:St. Nikolaus
END:VEVENT
BEGIN:VEVENT
UID:sabre-vobject-cd1c61c9-2407-4e90-bdb7-6b038b797a5f
DTSTAMP:20260426T000102Z
SUMMARY:Bittandacht beim "Antonius" Maingründel (bei schlechtem Wetter in 
 der Kapelle)
DESCRIPTION:https://www2.bistum-augsburg.de/gottesdienste/bittandacht-beim-
 antonius-maingruendel-bei-schlechtem-wetter-in-der-kapelle_id1733389
DTSTART;TZID=Europe/Berlin:20260512T190000
DURATION:PT30M
LOCATION:St. Nikolaus
END:VEVENT
BEGIN:VEVENT
UID:sabre-vobject-595280f6-23a6-45c8-bde8-e0eac8c314ec
DTSTAMP:20260426T000102Z
SUMMARY:Bittprozession mit anschl. Eucharistiefeier
DESCRIPTION:https://www2.bistum-augsburg.de/gottesdienste/bittprozession-mi
 t-anschl-eucharistiefeier_id1733390
DTSTART;TZID=Europe/Berlin:20260512T190000
DURATION:PT30M
LOCATION:St. Nikolaus
END:VEVENT
BEGIN:VEVENT
UID:sabre-vobject-5bcc7a4e-55bf-4700-b961-d34e63d61e41
DTSTAMP:20260426T000102Z
SUMMARY:Pfarrgemeinderatssitzung
DESCRIPTION:https://www2.bistum-augsburg.de/gottesdienste/pfarrgemeinderats
 sitzung_id1733388
DTSTART;TZID=Europe/Berlin:20260512T201500
DURATION:PT30M
LOCATION:St. Nikolaus
END:VEVENT
BEGIN:VEVENT
UID:sabre-vobject-d142d25f-7faa-4a58-9876-319df98012c8
DTSTAMP:20260426T000102Z
SUMMARY:Weggang zur Flurprozession auf den Höllberg
DESCRIPTION:https://www2.bistum-augsburg.de/gottesdienste/weggang-zur-flurp
 rozession-auf-den-hoellberg_id1733393
DTSTART;TZID=Europe/Berlin:20260514T091500
DURATION:PT30M
LOCATION:St. Nikolaus
END:VEVENT
END:VCALENDAR
