BEGIN:VCALENDAR
VERSION:2.0
PRODID:-//Sabre//Sabre VObject 4.5.8//EN
CALSCALE:GREGORIAN
NAME:Bistum Augsburg
X-WR-CALNAME:Bistum Augsburg
BEGIN:VEVENT
UID:sabre-vobject-2b57c84b-698f-4af7-b1c1-053220f12167
DTSTAMP:20260425T132242Z
SUMMARY:Heilige Messe m. Erstkommunionfeier
DESCRIPTION:https://www2.bistum-augsburg.de/gottesdienste/heilige-messe-m-e
 rstkommunionfeier_id1727021
DTSTART;TZID=Europe/Berlin:20260426T100000
DURATION:PT30M
LOCATION:St. Stephan
END:VEVENT
BEGIN:VEVENT
UID:sabre-vobject-1b1b5a2a-e092-4549-a1e1-989c1362a709
DTSTAMP:20260425T132242Z
SUMMARY:Rosenkranz
DESCRIPTION:https://www2.bistum-augsburg.de/gottesdienste/rosenkranz_id1727
 022
DTSTART;TZID=Europe/Berlin:20260426T123000
DURATION:PT30M
LOCATION:St. Stephan
END:VEVENT
BEGIN:VEVENT
UID:sabre-vobject-56015be8-5cde-477e-b3ce-91aecda81326
DTSTAMP:20260425T132242Z
SUMMARY:Rosenkranz
DESCRIPTION:https://www2.bistum-augsburg.de/gottesdienste/rosenkranz_id1727
 023
DTSTART;TZID=Europe/Berlin:20260428T083000
DURATION:PT30M
LOCATION:St. Stephan
END:VEVENT
BEGIN:VEVENT
UID:sabre-vobject-a9fedb8f-2124-45fd-a426-ad72b26f518b
DTSTAMP:20260425T132242Z
SUMMARY:Heilige Messe entfällt
DESCRIPTION:https://www2.bistum-augsburg.de/gottesdienste/heilige-messe-ent
 faellt_id1727024
DTSTART;TZID=Europe/Berlin:20260430T190000
DURATION:PT30M
LOCATION:St. Stephan
END:VEVENT
BEGIN:VEVENT
UID:sabre-vobject-6d891ccc-1127-4f12-8a22-7cca2a729f10
DTSTAMP:20260425T132242Z
SUMMARY:Heilige Messe
DESCRIPTION:https://www2.bistum-augsburg.de/gottesdienste/heilige-messe_id1
 727025
DTSTART;TZID=Europe/Berlin:20260501T100000
DURATION:PT30M
LOCATION:St. Stephan
END:VEVENT
BEGIN:VEVENT
UID:sabre-vobject-9b6b9e0b-800c-4e85-a0f9-741db1c2c3e0
DTSTAMP:20260425T132242Z
SUMMARY:Heilige Messe\, Kollekte für die Pfarrbücherei
DESCRIPTION:https://www2.bistum-augsburg.de/gottesdienste/heilige-messe-kol
 lekte-fuer-die-pfarrbuecherei_id1724652
DTSTART;TZID=Europe/Berlin:20260503T083000
DURATION:PT30M
LOCATION:St. Stephan
END:VEVENT
BEGIN:VEVENT
UID:sabre-vobject-2a499ad4-2476-4fd0-8d7b-8c70973e9d18
DTSTAMP:20260425T132242Z
SUMMARY:Maiandacht
DESCRIPTION:https://www2.bistum-augsburg.de/gottesdienste/maiandacht_id1724
 653
DTSTART;TZID=Europe/Berlin:20260503T190000
DURATION:PT30M
LOCATION:St. Stephan
END:VEVENT
BEGIN:VEVENT
UID:sabre-vobject-e75bd115-4f3d-425b-b253-c512806da67c
DTSTAMP:20260425T132242Z
SUMMARY:Rosenkranz
DESCRIPTION:https://www2.bistum-augsburg.de/gottesdienste/rosenkranz_id1724
 568
DTSTART;TZID=Europe/Berlin:20260505T083000
DURATION:PT30M
LOCATION:St. Stephan
END:VEVENT
BEGIN:VEVENT
UID:sabre-vobject-7e5449d5-4de2-4e4a-bccb-aa5f801477c1
DTSTAMP:20260425T132242Z
SUMMARY:Heilige Messe
DESCRIPTION:https://www2.bistum-augsburg.de/gottesdienste/heilige-messe_id1
 724569
DTSTART;TZID=Europe/Berlin:20260507T190000
DURATION:PT30M
LOCATION:St. Stephan
END:VEVENT
BEGIN:VEVENT
UID:sabre-vobject-482c96f6-d227-4a77-a5d6-f0773566ecfe
DTSTAMP:20260425T132242Z
SUMMARY:Heilige Messe
DESCRIPTION:https://www2.bistum-augsburg.de/gottesdienste/heilige-messe_id1
 726371
DTSTART;TZID=Europe/Berlin:20260510T083000
DURATION:PT30M
LOCATION:St. Stephan
END:VEVENT
BEGIN:VEVENT
UID:sabre-vobject-e010f990-fc48-48e6-8cbb-654abffee964
DTSTAMP:20260425T132242Z
SUMMARY:Rosenkranz
DESCRIPTION:https://www2.bistum-augsburg.de/gottesdienste/rosenkranz_id1726
 372
DTSTART;TZID=Europe/Berlin:20260510T123000
DURATION:PT30M
LOCATION:St. Stephan
END:VEVENT
BEGIN:VEVENT
UID:sabre-vobject-fdf5e4ce-13e5-4cb5-ba1e-d0631dac8c5b
DTSTAMP:20260425T132242Z
SUMMARY:Bittgang nach Schempach
DESCRIPTION:https://www2.bistum-augsburg.de/gottesdienste/bittgang-nach-sch
 empach_id1726374
DTSTART;TZID=Europe/Berlin:20260511T190000
DURATION:PT30M
LOCATION:St. Stephan
END:VEVENT
BEGIN:VEVENT
UID:sabre-vobject-0f244dca-f4b6-437e-a3bd-23932f75404d
DTSTAMP:20260425T132242Z
SUMMARY:Bitt-Messe in Schempach (bei Regen Heilige Messe u. 19 Uhr in der K
 irche in Häder)
DESCRIPTION:https://www2.bistum-augsburg.de/gottesdienste/bitt-messe-in-sch
 empach-bei-regen-heilige-messe-u-19-uhr-in-der-kirche-in-haeder_id1726375
DTSTART;TZID=Europe/Berlin:20260511T193000
DURATION:PT30M
LOCATION:St. Stephan
END:VEVENT
BEGIN:VEVENT
UID:sabre-vobject-8418c700-f721-4de9-a35b-c4453c25d031
DTSTAMP:20260425T132242Z
SUMMARY:Rosenkranz
DESCRIPTION:https://www2.bistum-augsburg.de/gottesdienste/rosenkranz_id1726
 376
DTSTART;TZID=Europe/Berlin:20260512T083000
DURATION:PT30M
LOCATION:St. Stephan
END:VEVENT
BEGIN:VEVENT
UID:sabre-vobject-70b111a3-ad2a-4f27-814d-8d460d219b69
DTSTAMP:20260425T132242Z
SUMMARY:Bittgang nach Au\, dort um 19 Uhr Bitt-Messe (entfällt bei Regen)
DESCRIPTION:https://www2.bistum-augsburg.de/gottesdienste/bittgang-nach-au-
 dort-um-19-uhr-bitt-messe-entfaellt-bei-regen_id1726377
DTSTART;TZID=Europe/Berlin:20260513T181500
DURATION:PT30M
LOCATION:St. Stephan
END:VEVENT
BEGIN:VEVENT
UID:sabre-vobject-09fc322c-1b21-4236-be74-c1590ffb0b3a
DTSTAMP:20260425T132242Z
SUMMARY:Festgottesdienst vor dem Vereinsheim in Fleinhausen für die ges. P
 G
DESCRIPTION:https://www2.bistum-augsburg.de/gottesdienste/festgottesdienst-
 vor-dem-vereinsheim-in-fleinhausen-fuer-die-ges-pg_id1726378
DTSTART;TZID=Europe/Berlin:20260514T090000
DURATION:PT30M
LOCATION:St. Stephan
END:VEVENT
BEGIN:VEVENT
UID:sabre-vobject-25bfc5a2-7ce1-44c0-bab2-3175b6ec3236
DTSTAMP:20260425T132242Z
SUMMARY:Heilige Messe\, anschl. Flurumgang
DESCRIPTION:https://www2.bistum-augsburg.de/gottesdienste/heilige-messe-ans
 chl-flurumgang_id1726379
DTSTART;TZID=Europe/Berlin:20260517T083000
DURATION:PT30M
LOCATION:St. Stephan
END:VEVENT
BEGIN:VEVENT
UID:sabre-vobject-844d9b64-9d10-4639-a7d0-c321ac84da60
DTSTAMP:20260425T132242Z
SUMMARY:Rosenkranz entfällt
DESCRIPTION:https://www2.bistum-augsburg.de/gottesdienste/rosenkranz-entfae
 llt_id1726380
DTSTART;TZID=Europe/Berlin:20260517T123000
DURATION:PT30M
LOCATION:St. Stephan
END:VEVENT
END:VCALENDAR
